BEGIN:VCALENDAR
VERSION:2.0
PRODID:-//Squash Factory Schengen - Lëtzebuerg - ECPv6.14.0//NONSGML v1.0//EN
CALSCALE:GREGORIAN
METHOD:PUBLISH
X-ORIGINAL-URL:https://sfsl.lu
X-WR-CALDESC:Events for Squash Factory Schengen - Lëtzebuerg
REFRESH-INTERVAL;VALUE=DURATION:PT1H
X-Robots-Tag:noindex
X-PUBLISHED-TTL:PT1H
BEGIN:VTIMEZONE
TZID:Europe/Luxembourg
BEGIN:DAYLIGHT
TZOFFSETFROM:+0100
TZOFFSETTO:+0200
TZNAME:CEST
DTSTART:20250330T010000
END:DAYLIGHT
BEGIN:STANDARD
TZOFFSETFROM:+0200
TZOFFSETTO:+0100
TZNAME:CET
DTSTART:20251026T010000
END:STANDARD
END:VTIMEZONE
BEGIN:VEVENT
DTSTART;TZID=Europe/Luxembourg:20250703T190000
DTEND;TZID=Europe/Luxembourg:20250703T210000
DTSTAMP:20260421T164048
CREATED:20250601T135631Z
LAST-MODIFIED:20250601T135631Z
UID:24632-1751569200-1751576400@sfsl.lu
SUMMARY:Elvange SportHall training
DESCRIPTION:We are pleased to offer regular group training sessions every Thursday and Sunday at SportHall Elvange\, organized exclusively for members of the Squash Factory Schengen-Lëtzebuerg. \nThese sessions are open to adults\, children\, and families\, and are a great opportunity to improve skills\, build fitness\, and enjoy the sport in a welcoming and supportive environment. Whether you’re a beginner looking to learn the basics or an experienced player aiming to refine your technique\, our sessions cater to all levels. \nAll training is conducted by a team of qualified and experienced coaches\, who provide personalized guidance\, structured drills\, and engaging match play. Children benefit from age-appropriate training methods that focus on coordination\, movement\, and fun\, while adults can take advantage of technical instruction\, tactical development\, and physical conditioning. \nFamily sessions encourage participation across generations\, making it a unique way to spend quality time together while staying active. \nJoin us weekly to become part of a passionate squash community\, stay motivated\, and make steady progress — both on and off the court.
URL:https://sfsl.lu/event/elvange-sporthall-training-12/
LOCATION:SportHall\, 5692 Elvange Schengen\, Elvange\, Schengen\, 5692\, Luxembourg
CATEGORIES:Elvange Sporthall
ATTACH;FMTTYPE=image/jpeg:https://sfsl.lu/wp-content/uploads/2025/05/c630a405-bf83-4679-9107-1f7d879e532b-2-1536x1009-2.jpg
ORGANIZER;CN="Squash Factory Schengen-L%C3%ABtzebuerg":MAILTO:squashschengen@gmail.com
END:VEVENT
BEGIN:VEVENT
DTSTART;TZID=Europe/Luxembourg:20250707T180000
DTEND;TZID=Europe/Luxembourg:20250707T200000
DTSTAMP:20260421T164048
CREATED:20250601T135840Z
LAST-MODIFIED:20250601T135840Z
UID:24636-1751911200-1751918400@sfsl.lu
SUMMARY:Youth Training at Squash Factory Schengen-Lëtzebuerg
DESCRIPTION:Our Youth Training sessions are designed to introduce young players to the world of squash in a fun\, energetic\, and supportive environment. These sessions are perfect for children and teenagers who want to learn the sport\, improve their skills\, or take their game to the next level. \nLed by our team of qualified and enthusiastic coaches\, the program focuses on: \n\n\nBuilding solid fundamentals: movement\, coordination\, and racket skills \n\n\nLearning through play: engaging drills and squash-related games \n\n\nEncouraging sportsmanship\, teamwork\, and confidence \n\n\nCreating a positive and inclusive training atmosphere \n\n\nWhether your child is a complete beginner or already has some experience\, our Youth Training program adapts to every level and helps young players grow — both on and off the court. \n🗓 When: 07/07/2025 at 17:45📍 Where: Sportcenter – Kockelscheuer🎯 Who: Open to all junior members of Squash Factory Schengen-Lëtzebuerg👟 What to bring: Indoor sportswear\, non-marking shoes\, water bottle — we provide rackets if needed \nJoin us and let your child discover the joy of squash while developing healthy habits\, friendships\, and a love for the game!
URL:https://sfsl.lu/event/youth-training-at-squash-factory-schengen-letzebuerg-4/
LOCATION:Sportcenter – Kockelscheuer\, 20\, Route de Bettembourg\, L-1899 Kockelscheuer\, Luxembourg\, L-1899\, Luxembourg
CATEGORIES:Sportcenter – Kockelscheuer
ATTACH;FMTTYPE=image/jpeg:https://sfsl.lu/wp-content/uploads/2025/05/262bfc5ecf0ab338adce10647327192c61e46af0.jpg
ORGANIZER;CN="Squash Factory Schengen-L%C3%ABtzebuerg":MAILTO:squashschengen@gmail.com
END:VEVENT
BEGIN:VEVENT
DTSTART;VALUE=DATE:20250710
DTEND;VALUE=DATE:20250714
DTSTAMP:20260421T164048
CREATED:20250601T150100Z
LAST-MODIFIED:20250601T150100Z
UID:24643-1752105600-1752451199@sfsl.lu
SUMMARY:European Junior Open - Platinum Event
DESCRIPTION:We are proud to announce that two promising junior players from our club\, Gluhoi Matvei and Paris Caillet\, will be representing us at the prestigious European Junior Open – Platinum Event\, taking place from July 10th to 13th\, 2025 in Hamburg. \nThey will be accompanied by our experienced coach\, Jean Claude Schmidt\, who will guide and support them throughout the tournament. This event is one of the highlights of the junior squash calendar\, attracting top young talents from all around the world. \nWe are confident that Matvei and Paris will showcase not only their skill and determination but also the spirit and values of our club on this international stage. \nLet us all wish them the very best of luck and success in the competition!#EuropeanJuniorOpen2025 #JuniorSquash #TeamGluhoi #FutureChampions
URL:https://sfsl.lu/event/european-junior-open-platinum-event/
LOCATION:Sportwerk Hamburg\, Hagenbeckstrasse 124a\, Hamburg\, Hamburg\, 22527\, Germany
CATEGORIES:ESF Junior Circuit
ATTACH;FMTTYPE=image/png:https://sfsl.lu/wp-content/uploads/2025/06/Снимок-экрана-2025-06-01-в-17.00.19.png
ORGANIZER;CN="European Squash Federation":MAILTO:info@europeansquash.com
END:VEVENT
BEGIN:VEVENT
DTSTART;TZID=Europe/Luxembourg:20250710T190000
DTEND;TZID=Europe/Luxembourg:20250710T210000
DTSTAMP:20260421T164048
CREATED:20250601T151401Z
LAST-MODIFIED:20250601T151401Z
UID:24648-1752174000-1752181200@sfsl.lu
SUMMARY:Elvange SportHall training
DESCRIPTION:We are pleased to offer regular group training sessions every Thursday and Sunday at SportHall Elvange\, organized exclusively for members of the Squash Factory Schengen-Lëtzebuerg. \nThese sessions are open to adults\, children\, and families\, and are a great opportunity to improve skills\, build fitness\, and enjoy the sport in a welcoming and supportive environment. Whether you’re a beginner looking to learn the basics or an experienced player aiming to refine your technique\, our sessions cater to all levels. \nAll training is conducted by a team of qualified and experienced coaches\, who provide personalized guidance\, structured drills\, and engaging match play. Children benefit from age-appropriate training methods that focus on coordination\, movement\, and fun\, while adults can take advantage of technical instruction\, tactical development\, and physical conditioning. \nFamily sessions encourage participation across generations\, making it a unique way to spend quality time together while staying active. \nJoin us weekly to become part of a passionate squash community\, stay motivated\, and make steady progress — both on and off the court.
URL:https://sfsl.lu/event/elvange-sporthall-training-14/
LOCATION:SportHall\, 5692 Elvange Schengen\, Elvange\, Schengen\, 5692\, Luxembourg
CATEGORIES:Elvange Sporthall
ATTACH;FMTTYPE=image/jpeg:https://sfsl.lu/wp-content/uploads/2025/05/c630a405-bf83-4679-9107-1f7d879e532b-2-1536x1009-2.jpg
ORGANIZER;CN="Squash Factory Schengen-L%C3%ABtzebuerg":MAILTO:squashschengen@gmail.com
END:VEVENT
BEGIN:VEVENT
DTSTART;TZID=Europe/Luxembourg:20250713T100000
DTEND;TZID=Europe/Luxembourg:20250713T120000
DTSTAMP:20260421T164048
CREATED:20250601T151507Z
LAST-MODIFIED:20250601T151507Z
UID:24650-1752400800-1752408000@sfsl.lu
SUMMARY:Elvange SportHall training
DESCRIPTION:We are pleased to offer regular group training sessions every Thursday and Sunday at SportHall Elvange\, organized exclusively for members of the Squash Factory Schengen-Lëtzebuerg. \nThese sessions are open to adults\, children\, and families\, and are a great opportunity to improve skills\, build fitness\, and enjoy the sport in a welcoming and supportive environment. Whether you’re a beginner looking to learn the basics or an experienced player aiming to refine your technique\, our sessions cater to all levels. \nAll training is conducted by a team of qualified and experienced coaches\, who provide personalized guidance\, structured drills\, and engaging match play. Children benefit from age-appropriate training methods that focus on coordination\, movement\, and fun\, while adults can take advantage of technical instruction\, tactical development\, and physical conditioning. \nFamily sessions encourage participation across generations\, making it a unique way to spend quality time together while staying active. \nJoin us weekly to become part of a passionate squash community\, stay motivated\, and make steady progress — both on and off the court.
URL:https://sfsl.lu/event/elvange-sporthall-training-15/
LOCATION:SportHall\, 5692 Elvange Schengen\, Elvange\, Schengen\, 5692\, Luxembourg
CATEGORIES:Elvange Sporthall
ATTACH;FMTTYPE=image/jpeg:https://sfsl.lu/wp-content/uploads/2025/05/c630a405-bf83-4679-9107-1f7d879e532b-2-1536x1009-2.jpg
ORGANIZER;CN="Squash Factory Schengen-L%C3%ABtzebuerg":MAILTO:squashschengen@gmail.com
END:VEVENT
BEGIN:VEVENT
DTSTART;TZID=Europe/Luxembourg:20250717T190000
DTEND;TZID=Europe/Luxembourg:20250717T210000
DTSTAMP:20260421T164048
CREATED:20250601T151905Z
LAST-MODIFIED:20250601T151905Z
UID:24652-1752778800-1752786000@sfsl.lu
SUMMARY:Elvange SportHall training
DESCRIPTION:We are pleased to offer regular group training sessions every Thursday and Sunday at SportHall Elvange\, organized exclusively for members of the Squash Factory Schengen-Lëtzebuerg. \nThese sessions are open to adults\, children\, and families\, and are a great opportunity to improve skills\, build fitness\, and enjoy the sport in a welcoming and supportive environment. Whether you’re a beginner looking to learn the basics or an experienced player aiming to refine your technique\, our sessions cater to all levels. \nAll training is conducted by a team of qualified and experienced coaches\, who provide personalized guidance\, structured drills\, and engaging match play. Children benefit from age-appropriate training methods that focus on coordination\, movement\, and fun\, while adults can take advantage of technical instruction\, tactical development\, and physical conditioning. \nFamily sessions encourage participation across generations\, making it a unique way to spend quality time together while staying active. \nJoin us weekly to become part of a passionate squash community\, stay motivated\, and make steady progress — both on and off the court.
URL:https://sfsl.lu/event/elvange-sporthall-training-16/
LOCATION:SportHall\, 5692 Elvange Schengen\, Elvange\, Schengen\, 5692\, Luxembourg
CATEGORIES:Elvange Sporthall
ATTACH;FMTTYPE=image/jpeg:https://sfsl.lu/wp-content/uploads/2025/05/c630a405-bf83-4679-9107-1f7d879e532b-2-1536x1009-2.jpg
ORGANIZER;CN="Squash Factory Schengen-L%C3%ABtzebuerg":MAILTO:squashschengen@gmail.com
END:VEVENT
BEGIN:VEVENT
DTSTART;TZID=Europe/Luxembourg:20250720T100000
DTEND;TZID=Europe/Luxembourg:20250720T120000
DTSTAMP:20260421T164048
CREATED:20250601T152014Z
LAST-MODIFIED:20250601T152042Z
UID:24654-1753005600-1753012800@sfsl.lu
SUMMARY:Elvange SportHall training
DESCRIPTION:We are pleased to offer regular group training sessions every Thursday and Sunday at SportHall Elvange\, organized exclusively for members of the Squash Factory Schengen-Lëtzebuerg. \nThese sessions are open to adults\, children\, and families\, and are a great opportunity to improve skills\, build fitness\, and enjoy the sport in a welcoming and supportive environment. Whether you’re a beginner looking to learn the basics or an experienced player aiming to refine your technique\, our sessions cater to all levels. \nAll training is conducted by a team of qualified and experienced coaches\, who provide personalized guidance\, structured drills\, and engaging match play. Children benefit from age-appropriate training methods that focus on coordination\, movement\, and fun\, while adults can take advantage of technical instruction\, tactical development\, and physical conditioning. \nFamily sessions encourage participation across generations\, making it a unique way to spend quality time together while staying active. \nJoin us weekly to become part of a passionate squash community\, stay motivated\, and make steady progress — both on and off the court.
URL:https://sfsl.lu/event/elvange-sporthall-training-17/
LOCATION:SportHall\, 5692 Elvange Schengen\, Elvange\, Schengen\, 5692\, Luxembourg
CATEGORIES:Elvange Sporthall
ATTACH;FMTTYPE=image/jpeg:https://sfsl.lu/wp-content/uploads/2025/05/c630a405-bf83-4679-9107-1f7d879e532b-2-1536x1009-2.jpg
ORGANIZER;CN="Squash Factory Schengen-L%C3%ABtzebuerg":MAILTO:squashschengen@gmail.com
END:VEVENT
BEGIN:VEVENT
DTSTART;VALUE=DATE:20250721
DTEND;VALUE=DATE:20250727
DTSTAMP:20260421T164048
CREATED:20250601T153537Z
LAST-MODIFIED:20250713T184507Z
UID:24664-1753056000-1753574399@sfsl.lu
SUMMARY:STAGE «SCHENGEN GETS READY»
DESCRIPTION:📘 INFORMATIONS – STAGE «SCHENGEN GETS READY»\n📅 Du 21 au 26 juillet 2025 \n\n🎾 Chers parents\, chers membres\,\nNous avons le plaisir de vous annoncer l’organisation de notre prochain stage de squash : \n💥 « Schengen gets ready »\nUn stage intensif sur le thème : \n🧠💪 « Motivation + Action = Progression »\n\n🎯 Objectifs du stage\nCe stage offre une opportunité unique de développer des compétences techniques et mentales dans un environnement stimulant et bienveillant. \n\n🌟 Invités d’honneur\n\nSebastiaan Hofman – jeune talent prometteur\nElise Rombas – joueuse expérimentée\nNadia Pfister – ambassadrice du squash\n\n🧑‍🏫 Encadrement par nos entraîneurs diplômés :Marc Thrill & Jean-Claude Schmidt \n\n📅 PROGRAMME DÉTAILLÉ\n🕙 Horaires quotidiens :10h00–12h00 & 14h00–16h00 (sauf exceptions) \n\n\n\n\n\nDate\nLieu / Activité\nRepas\n\n\n\n\nLun 21/07\nCK Sportcenter Kockelscheuer\nLa Duchessa\n\n\nMar 22/07\nCK Sportcenter Kockelscheuer\nLa Duchessa\n\n\nMer 23/07\nLibre ou Excursion Europapark (optionnelle) avec Jean-Claude\nPique-nique\n\n\nJeu 24/07\nCK Sportcenter Kockelscheuer\nLa Duchessa\n\n\nVen 25/07\nAM : Hall sportif à Elvange\nPM : CK Sportcenter\nLa Duchessa\n\n\nSam 26/07\nCK Sportcenter Kockelscheuer\nLe Score\n\n\n\n\n\n\n\n\n⚠️ Excursion Europapark : activité indépendante assurée par Jean-Claude. Transport & autorisation parentale requis. \n\n💶 TARIFS\n\n\n\n\n\nNombre de jours\nPrix\n\n\n\n\n5 jours\n225 €\n\n\n4 jours\n180 €\n\n\n3 jours\n135 €\n\n\n\n\n\n\n\n\n📝 Excursion non incluse dans les tarifs \n\nℹ️ INFORMATIONS PRATIQUES\n👤 Participants : 6 à 99 ans⚙️ Conditions : Motivation et niveau minimum requis \n🚗 Transport : \n\nÀ charge des parents (vers/depuis CK Sportcenter)\nEncouragement au covoiturage\n🚌 Transport assuré :\n\n– Mercredi (excursion) – Jean-Claude \n– Vendredi midi – staff \n🍝 Repas : \n\nNon inclus (15 € / repas)\nOption végétarienne disponible (à signaler)\n\n\n📋 PROGRAMME TECHNIQUE\n\nÉchauffement / retour au calme\nFondamentaux techniques & tactiques\nContrôle de balle & combativité\nSessions personnalisées\nAteliers avec invités\n\n\n🎽 ÉQUIPEMENT OBLIGATOIRE\n\n👓 Lunettes de protection (< 19 ans)\n👟 Chaussures non marquantes\n🥤 Gourde\n👕 Vêtements de sport + rechange\n🧼 Serviette (douches dispo)\n\n\n📄 DOCUMENTS À FOURNIR\n\nCopie carte de sécurité sociale (matricule)\nÀ signaler :\n\n– Allergies / besoins particuliers \n– Menu végétarien \n            – Autorisation parentale (excursion) \n\n📸 DROIT À L’IMAGE\nPhotos/vidéos utilisées pour la promotion du sport.📩 Merci de signaler par écrit si vous vous y opposez. \n\n🧾 INSCRIPTION & PAIEMENT\n💳 Paiement avant le 18 juillet 2025IBAN : LU07 0019 6055 2546 6000BIC : BCEELULLRéf : Stage Schengen gets ready + NOM \n📨 Formulaire à retourner avant le 18 juillet 2025 \n\n📍 Pour toute question : contactez-nous via Spond \nLINK – STAGE DE SQUASH «Schengen gets ready»
URL:https://sfsl.lu/event/summer-stage-schengen-gets-ready/
LOCATION:Sportcenter – Kockelscheuer\, 20\, Route de Bettembourg\, L-1899 Kockelscheuer\, Luxembourg\, L-1899\, Luxembourg
CATEGORIES:Stage
ATTACH;FMTTYPE=image/jpeg:https://sfsl.lu/wp-content/uploads/2025/06/Poster_Stage_SFSL_2025.jpg
ORGANIZER;CN="Squash Factory Schengen-L%C3%ABtzebuerg":MAILTO:squashschengen@gmail.com
END:VEVENT
BEGIN:VEVENT
DTSTART;TZID=Europe/Luxembourg:20250724T190000
DTEND;TZID=Europe/Luxembourg:20250724T210000
DTSTAMP:20260421T164048
CREATED:20250601T152145Z
LAST-MODIFIED:20250601T152145Z
UID:24656-1753383600-1753390800@sfsl.lu
SUMMARY:Elvange SportHall training
DESCRIPTION:We are pleased to offer regular group training sessions every Thursday and Sunday at SportHall Elvange\, organized exclusively for members of the Squash Factory Schengen-Lëtzebuerg. \nThese sessions are open to adults\, children\, and families\, and are a great opportunity to improve skills\, build fitness\, and enjoy the sport in a welcoming and supportive environment. Whether you’re a beginner looking to learn the basics or an experienced player aiming to refine your technique\, our sessions cater to all levels. \nAll training is conducted by a team of qualified and experienced coaches\, who provide personalized guidance\, structured drills\, and engaging match play. Children benefit from age-appropriate training methods that focus on coordination\, movement\, and fun\, while adults can take advantage of technical instruction\, tactical development\, and physical conditioning. \nFamily sessions encourage participation across generations\, making it a unique way to spend quality time together while staying active. \nJoin us weekly to become part of a passionate squash community\, stay motivated\, and make steady progress — both on and off the court.
URL:https://sfsl.lu/event/elvange-sporthall-training-18/
LOCATION:SportHall\, 5692 Elvange Schengen\, Elvange\, Schengen\, 5692\, Luxembourg
CATEGORIES:Elvange Sporthall
ATTACH;FMTTYPE=image/jpeg:https://sfsl.lu/wp-content/uploads/2025/05/c630a405-bf83-4679-9107-1f7d879e532b-2-1536x1009-2.jpg
ORGANIZER;CN="Squash Factory Schengen-L%C3%ABtzebuerg":MAILTO:squashschengen@gmail.com
END:VEVENT
BEGIN:VEVENT
DTSTART;TZID=Europe/Luxembourg:20250727T100000
DTEND;TZID=Europe/Luxembourg:20250727T100000
DTSTAMP:20260421T164048
CREATED:20250601T152230Z
LAST-MODIFIED:20250601T152236Z
UID:24658-1753610400-1753610400@sfsl.lu
SUMMARY:Elvange SportHall training
DESCRIPTION:We are pleased to offer regular group training sessions every Thursday and Sunday at SportHall Elvange\, organized exclusively for members of the Squash Factory Schengen-Lëtzebuerg. \nThese sessions are open to adults\, children\, and families\, and are a great opportunity to improve skills\, build fitness\, and enjoy the sport in a welcoming and supportive environment. Whether you’re a beginner looking to learn the basics or an experienced player aiming to refine your technique\, our sessions cater to all levels. \nAll training is conducted by a team of qualified and experienced coaches\, who provide personalized guidance\, structured drills\, and engaging match play. Children benefit from age-appropriate training methods that focus on coordination\, movement\, and fun\, while adults can take advantage of technical instruction\, tactical development\, and physical conditioning. \nFamily sessions encourage participation across generations\, making it a unique way to spend quality time together while staying active. \nJoin us weekly to become part of a passionate squash community\, stay motivated\, and make steady progress — both on and off the court.
URL:https://sfsl.lu/event/elvange-sporthall-training-19/
LOCATION:SportHall\, 5692 Elvange Schengen\, Elvange\, Schengen\, 5692\, Luxembourg
CATEGORIES:Elvange Sporthall
ATTACH;FMTTYPE=image/jpeg:https://sfsl.lu/wp-content/uploads/2025/05/c630a405-bf83-4679-9107-1f7d879e532b-2-1536x1009-2.jpg
ORGANIZER;CN="Squash Factory Schengen-L%C3%ABtzebuerg":MAILTO:squashschengen@gmail.com
END:VEVENT
BEGIN:VEVENT
DTSTART;VALUE=DATE:20250729
DTEND;VALUE=DATE:20250803
DTSTAMP:20260421T164048
CREATED:20250601T160342Z
LAST-MODIFIED:20250601T161113Z
UID:24667-1753747200-1754179199@sfsl.lu
SUMMARY:Squash Factory Schengen-Lëtzebuerg at the "Stage Jeunes de Squash" in Bayonne
DESCRIPTION:We are proud to announce that several young players from Squash Factory Schengen-Lëtzebuerg will be taking part in the prestigious “Stage Jeunes de Squash avec du beau monde!”\, held from July 29 to August 2\, 2025\, at Club 64 Bayonne. \nThis high-level training camp will feature top-ranked international players\, including Victor CROUIN (World No. 15\, PSA) and Auguste DUSSOURD (World No. 28\, PSA)\, who are expected to attend for part of the event. \nParticipants will benefit from the expertise of an experienced coaching team composed of Mehdi RENAI\, Grégory HECQUET\, Emmanuel CROUIN\, and Christopher CARROUGET. \nThis is a fantastic opportunity for our young athletes to gain valuable experience and improve their game alongside some of the best in the sport. \nStay tuned for updates and photos from this exciting event! \nLink – “Stage Jeunes de Squash” in Bayonne
URL:https://sfsl.lu/event/squash-factory-schengen-letzebuerg-at-the-stage-jeunes-de-squash-in-bayonne/
LOCATION:Club 64 Bayonne\, 8 Rue de la Galupe\, Bayonne​\, 64 100\, France
CATEGORIES:Stage
ATTACH;FMTTYPE=image/jpeg:https://sfsl.lu/wp-content/uploads/2025/06/Bayonne-2025.jpg
END:VEVENT
BEGIN:VEVENT
DTSTART;TZID=Europe/Luxembourg:20250731T190000
DTEND;TZID=Europe/Luxembourg:20250731T210000
DTSTAMP:20260421T164048
CREATED:20250601T152322Z
LAST-MODIFIED:20250601T152322Z
UID:24660-1753988400-1753995600@sfsl.lu
SUMMARY:Elvange SportHall training
DESCRIPTION:We are pleased to offer regular group training sessions every Thursday and Sunday at SportHall Elvange\, organized exclusively for members of the Squash Factory Schengen-Lëtzebuerg. \nThese sessions are open to adults\, children\, and families\, and are a great opportunity to improve skills\, build fitness\, and enjoy the sport in a welcoming and supportive environment. Whether you’re a beginner looking to learn the basics or an experienced player aiming to refine your technique\, our sessions cater to all levels. \nAll training is conducted by a team of qualified and experienced coaches\, who provide personalized guidance\, structured drills\, and engaging match play. Children benefit from age-appropriate training methods that focus on coordination\, movement\, and fun\, while adults can take advantage of technical instruction\, tactical development\, and physical conditioning. \nFamily sessions encourage participation across generations\, making it a unique way to spend quality time together while staying active. \nJoin us weekly to become part of a passionate squash community\, stay motivated\, and make steady progress — both on and off the court.
URL:https://sfsl.lu/event/elvange-sporthall-training-20/
LOCATION:SportHall\, 5692 Elvange Schengen\, Elvange\, Schengen\, 5692\, Luxembourg
CATEGORIES:Elvange Sporthall
ATTACH;FMTTYPE=image/jpeg:https://sfsl.lu/wp-content/uploads/2025/05/c630a405-bf83-4679-9107-1f7d879e532b-2-1536x1009-2.jpg
ORGANIZER;CN="Squash Factory Schengen-L%C3%ABtzebuerg":MAILTO:squashschengen@gmail.com
END:VEVENT
END:VCALENDAR