BEGIN:VCALENDAR
VERSION:2.0
PRODID:-//Squash Factory Schengen - Lëtzebuerg - ECPv6.14.0//NONSGML v1.0//EN
CALSCALE:GREGORIAN
METHOD:PUBLISH
X-WR-CALNAME:Squash Factory Schengen - Lëtzebuerg
X-ORIGINAL-URL:https://sfsl.lu
X-WR-CALDESC:Events for Squash Factory Schengen - Lëtzebuerg
REFRESH-INTERVAL;VALUE=DURATION:PT1H
X-Robots-Tag:noindex
X-PUBLISHED-TTL:PT1H
BEGIN:VTIMEZONE
TZID:Europe/Luxembourg
BEGIN:DAYLIGHT
TZOFFSETFROM:+0100
TZOFFSETTO:+0200
TZNAME:CEST
DTSTART:20250330T010000
END:DAYLIGHT
BEGIN:STANDARD
TZOFFSETFROM:+0200
TZOFFSETTO:+0100
TZNAME:CET
DTSTART:20251026T010000
END:STANDARD
END:VTIMEZONE
BEGIN:VEVENT
DTSTART;TZID=Europe/Luxembourg:20250602T180000
DTEND;TZID=Europe/Luxembourg:20250602T200000
DTSTAMP:20260421T193737
CREATED:20250520T131822Z
LAST-MODIFIED:20250520T131822Z
UID:24412-1748887200-1748894400@sfsl.lu
SUMMARY:Youth Training at Squash Factory Schengen-Lëtzebuerg
DESCRIPTION:Our Youth Training sessions are designed to introduce young players to the world of squash in a fun\, energetic\, and supportive environment. These sessions are perfect for children and teenagers who want to learn the sport\, improve their skills\, or take their game to the next level. \nLed by our team of qualified and enthusiastic coaches\, the program focuses on: \n\n\nBuilding solid fundamentals: movement\, coordination\, and racket skills \n\n\nLearning through play: engaging drills and squash-related games \n\n\nEncouraging sportsmanship\, teamwork\, and confidence \n\n\nCreating a positive and inclusive training atmosphere \n\n\nWhether your child is a complete beginner or already has some experience\, our Youth Training program adapts to every level and helps young players grow — both on and off the court. \n🗓 When: 02/06/2025 at 18:00📍 Where: Sportcenter – Kockelscheuer🎯 Who: Open to all junior members of Squash Factory Schengen-Lëtzebuerg👟 What to bring: Indoor sportswear\, non-marking shoes\, water bottle — we provide rackets if needed \nJoin us and let your child discover the joy of squash while developing healthy habits\, friendships\, and a love for the game!
URL:https://sfsl.lu/event/youth-training-at-squash-factory-schengen-letzebuerg/
LOCATION:Sportcenter – Kockelscheuer\, 20\, Route de Bettembourg\, L-1899 Kockelscheuer\, Luxembourg\, L-1899\, Luxembourg
CATEGORIES:Sportcenter – Kockelscheuer
ATTACH;FMTTYPE=image/jpeg:https://sfsl.lu/wp-content/uploads/2025/05/262bfc5ecf0ab338adce10647327192c61e46af0.jpg
ORGANIZER;CN="FSL":MAILTO:contact@fsl.lu
END:VEVENT
END:VCALENDAR