BEGIN:VCALENDAR
VERSION:2.0
PRODID:-//Squash Factory Schengen - Lëtzebuerg - ECPv6.14.0//NONSGML v1.0//EN
CALSCALE:GREGORIAN
METHOD:PUBLISH
X-ORIGINAL-URL:https://sfsl.lu
X-WR-CALDESC:Events for Squash Factory Schengen - Lëtzebuerg
REFRESH-INTERVAL;VALUE=DURATION:PT1H
X-Robots-Tag:noindex
X-PUBLISHED-TTL:PT1H
BEGIN:VTIMEZONE
TZID:Europe/Luxembourg
BEGIN:DAYLIGHT
TZOFFSETFROM:+0100
TZOFFSETTO:+0200
TZNAME:CEST
DTSTART:20250330T010000
END:DAYLIGHT
BEGIN:STANDARD
TZOFFSETFROM:+0200
TZOFFSETTO:+0100
TZNAME:CET
DTSTART:20251026T010000
END:STANDARD
END:VTIMEZONE
BEGIN:VEVENT
DTSTART;TZID=Europe/Luxembourg:20250601T080000
DTEND;TZID=Europe/Luxembourg:20250601T170000
DTSTAMP:20260421T193758
CREATED:20250601T135226Z
LAST-MODIFIED:20250601T135453Z
UID:24630-1748764800-1748797200@sfsl.lu
SUMMARY:Youth Training at Squash Factory Schengen-Lëtzebuerg
DESCRIPTION:Our Youth Training sessions are designed to introduce young players to the world of squash in a fun\, energetic\, and supportive environment. These sessions are perfect for children and teenagers who want to learn the sport\, improve their skills\, or take their game to the next level. \nLed by our team of qualified and enthusiastic coaches\, the program focuses on: \n\n\nBuilding solid fundamentals: movement\, coordination\, and racket skills \n\n\nLearning through play: engaging drills and squash-related games \n\n\nEncouraging sportsmanship\, teamwork\, and confidence \n\n\nCreating a positive and inclusive training atmosphere \n\n\nWhether your child is a complete beginner or already has some experience\, our Youth Training program adapts to every level and helps young players grow — both on and off the court. \n🗓 When: 30/06/2025 at 17:45📍 Where: Sportcenter – Kockelscheuer🎯 Who: Open to all junior members of Squash Factory Schengen-Lëtzebuerg👟 What to bring: Indoor sportswear\, non-marking shoes\, water bottle — we provide rackets if needed \nJoin us and let your child discover the joy of squash while developing healthy habits\, friendships\, and a love for the game!
URL:https://sfsl.lu/event/youth-training-at-squash-factory-schengen-letzebuerg-3/
LOCATION:Sportcenter – Kockelscheuer\, 20\, Route de Bettembourg\, L-1899 Kockelscheuer\, Luxembourg\, L-1899\, Luxembourg
CATEGORIES:Sportcenter – Kockelscheuer
ATTACH;FMTTYPE=image/jpeg:https://sfsl.lu/wp-content/uploads/2025/05/262bfc5ecf0ab338adce10647327192c61e46af0.jpg
ORGANIZER;CN="Squash Factory Schengen-L%C3%ABtzebuerg":MAILTO:squashschengen@gmail.com
END:VEVENT
BEGIN:VEVENT
DTSTART;TZID=Europe/Luxembourg:20250601T100000
DTEND;TZID=Europe/Luxembourg:20250601T120000
DTSTAMP:20260421T193758
CREATED:20250520T111740Z
LAST-MODIFIED:20250520T111740Z
UID:24406-1748772000-1748779200@sfsl.lu
SUMMARY:Elvange SportHall training
DESCRIPTION:We are pleased to offer regular group training sessions every Thursday and Sunday at SportHall Elvange\, organized exclusively for members of the Squash Factory Schengen-Lëtzebuerg. \nThese sessions are open to adults\, children\, and families\, and are a great opportunity to improve skills\, build fitness\, and enjoy the sport in a welcoming and supportive environment. Whether you’re a beginner looking to learn the basics or an experienced player aiming to refine your technique\, our sessions cater to all levels. \nAll training is conducted by a team of qualified and experienced coaches\, who provide personalized guidance\, structured drills\, and engaging match play. Children benefit from age-appropriate training methods that focus on coordination\, movement\, and fun\, while adults can take advantage of technical instruction\, tactical development\, and physical conditioning. \nFamily sessions encourage participation across generations\, making it a unique way to spend quality time together while staying active. \nJoin us weekly to become part of a passionate squash community\, stay motivated\, and make steady progress — both on and off the court.
URL:https://sfsl.lu/event/elvange-sporthall-training-4/
LOCATION:SportHall\, 5692 Elvange Schengen\, Elvange\, Schengen\, 5692\, Luxembourg
CATEGORIES:Elvange Sporthall
ATTACH;FMTTYPE=image/jpeg:https://sfsl.lu/wp-content/uploads/2025/05/c630a405-bf83-4679-9107-1f7d879e532b-2-1536x1009-2.jpg
END:VEVENT
END:VCALENDAR