BEGIN:VCALENDAR
VERSION:2.0
PRODID:-//Squash Factory Schengen - Lëtzebuerg - ECPv6.14.0//NONSGML v1.0//EN
CALSCALE:GREGORIAN
METHOD:PUBLISH
X-ORIGINAL-URL:https://sfsl.lu
X-WR-CALDESC:Events for Squash Factory Schengen - Lëtzebuerg
REFRESH-INTERVAL;VALUE=DURATION:PT1H
X-Robots-Tag:noindex
X-PUBLISHED-TTL:PT1H
BEGIN:VTIMEZONE
TZID:Europe/Luxembourg
BEGIN:DAYLIGHT
TZOFFSETFROM:+0100
TZOFFSETTO:+0200
TZNAME:CEST
DTSTART:20250330T010000
END:DAYLIGHT
BEGIN:STANDARD
TZOFFSETFROM:+0200
TZOFFSETTO:+0100
TZNAME:CET
DTSTART:20251026T010000
END:STANDARD
END:VTIMEZONE
BEGIN:VEVENT
DTSTART;TZID=Europe/Luxembourg:20250531T170000
DTEND;TZID=Europe/Luxembourg:20250531T230000
DTSTAMP:20260421T195101
CREATED:20250514T184328Z
LAST-MODIFIED:20250519T210318Z
UID:23701-1748710800-1748732400@sfsl.lu
SUMMARY:The ING Night Marathon
DESCRIPTION:AN ATMOSPHERE THAT MAKES HEARTS BEAT FASTER\n\nThe ING Night Marathon Luxembourg is the largest sports event in the Grand Duchy – and yet scores points above all with its family atmosphere. \nIn a roaring marathon night\, thousands of runners in colorful jerseys will once again stream through the streets of Luxembourg City on May 31\, 2025. If you want to experience the city in its diversity and in a sea of lights in the evening\, a bib for the ING Night Marathon Luxembourg is just the right thing. \nThe unique topography makes the route particularly varied and appealing – whether it’s the Petrusse Valley\, which carves its way through the middle of the city as a green gorge\, or the historic fortifications\, which nestle against the cliffs of the upper city.
URL:https://sfsl.lu/event/the-ing-night-marathon-4/
LOCATION:Luxembourg
ATTACH;FMTTYPE=image/jpeg:https://sfsl.lu/wp-content/uploads/2025/05/csm_BOT_Homepage_e07cedc857.jpg
ORGANIZER;CN="ING Night Marathon Luxembourg":MAILTO:info@ing-night-marathon.lu
END:VEVENT
END:VCALENDAR